BEGIN:VCALENDAR
VERSION:2.0
PRODID:-//wp-events-plugin.com//7.2.3.1//EN
BEGIN:VEVENT
UID:419@campinglebrevedent.com
DTSTART:20240702T143000Z
DTEND:20240827T163000Z
DTSTAMP:20240616T132446Z
URL:https://www.campinglebrevedent.com/events/atelier-textile-avec-tara/
SUMMARY:Atelier textile avec Tara
DESCRIPTION:Tara accueille toute la famille\, tous les mardis après-midi 
 à partir de 14h\, en juillet et août pour un atelier autour du recyclage
 !\n\nDes dizaines de chutes de tissus\, bobines de fils aux milles couleur
 s\, des perles\, des étiquettes en tous genres pourvu que ce soit de la r
 écup’ !\n\nVous pouvez ensuite confectionner vos propres objets personn
 alisés: pochettes pour téléphones\, bracelets\, chouchous...
ATTACH;FMTTYPE=image/jpeg:https://www.campinglebrevedent.com/wp-content/up
 loads/atelier-recyclage-animation-manuel-camping-brevedent-normandie.jpg
END:VEVENT
END:VCALENDAR