BEGIN:VCALENDAR
VERSION:2.0
PRODID:-//wp-events-plugin.com//7.2.3.1//EN
BEGIN:VEVENT
UID:1013@campinglebrevedent.com
DTSTART;VALUE=DATE:20260430
DTEND;VALUE=DATE:20260504
DTSTAMP:20251205T110608Z
URL:https://www.campinglebrevedent.com/events/beauregard-au-galop/
SUMMARY:Beauregard au Galop
DESCRIPTION:Beauregard au Galop se déroulera du 30 avril au 3 mai 2026\, a
 u Domaine de Beauregard – Hérouville-Saint-Clair (Calvados\, Normandie)
 . Cet événement équestre de haut niveau proposera des épreuves de saut
  d’obstacles (CSO) ouvertes aux amateurs comme aux professionnels\, dans
  un cadre verdoyant et accessible. Au-delà de la compétition sportive\, 
 Beauregard au Galop sera un moment de fête\, de découverte et de partage
  : animations familiales\, spectacles\, restauration\, accès libre et gra
 tuit pour le public\, pour permettre à tous — passionnés ou curieux 
 — de profiter de l’univers du cheval dans une ambiance conviviale.\n\n
 Pour plus d'informations - cliquez ici!
ATTACH;FMTTYPE=image/jpeg:https://www.campinglebrevedent.com/wp-content/up
 loads/beauregard-au-galop-evenement-equestre-normandie.jpg
LOCATION:Domaine de Beauregard\, 568 Ancienne Route de Ouistreham\, Hérouv
 illle-Saint-Clair\, France
GEO:49.214561;-0.312264
X-APPLE-STRUCTURED-LOCATION;VALUE=URI;X-ADDRESS=568 Ancienne Route de Ouist
 reham\, Hérouvillle-Saint-Clair\, France;X-APPLE-RADIUS=100;X-TITLE=Domai
 ne de Beauregard:geo:49.214561,-0.312264
END:VEVENT
END:VCALENDAR