BEGIN:VCALENDAR
VERSION:2.0
PRODID:-//wp-events-plugin.com//7.2.3.1//EN
BEGIN:VEVENT
UID:786@campinglebrevedent.com
DTSTART;VALUE=DATE:20250503
DTEND;VALUE=DATE:20250504
DTSTAMP:20250205T142318Z
URL:https://www.campinglebrevedent.com/events/casteltrail-de-blangy-le-cha
 teau/
SUMMARY:Castel'Trail de Blangy-le-Château
DESCRIPTION:Le Castel'Trail de Blangy-le-Château est un événement sporti
 f annuel organisé par l'Amicale des Sapeurs-Pompiers de Blangy-le-Châtea
 u. La prochaine édition est prévue pour le samedi 3 mai 2025.\n\nParcour
 s proposés :\n\n 	Trail Découverte de 7 km : Parcours accessible à part
 ir de 18h00\, idéal pour les débutants souhaitant s'initier au trail.\n 
 	Trail de 13 km : Parcours plus exigeant avec un départ à 17h15\, destin
 é aux coureurs expérimentés.\n\nÀ l'issue des courses\, une boisson se
 ra offerte à chaque participant en échange de son dossard. La remise des
  récompenses est prévue à partir de 19h00.\n\nLe Castel'Trail de Blangy
 -le-Château offre une occasion unique de découvrir les paysages pittores
 ques de la région tout en relevant un défi sportif adapté à tous les n
 iveaux.\n\nPour plus d'information et pour s'inscrire\, cliquez ici!
ATTACH;FMTTYPE=image/jpeg:https://www.campinglebrevedent.com/wp-content/up
 loads/castel-trail-blangy-le-chateau-2025.jpg
LOCATION:Blangy-le-Château\, Centre ville\, Blangy-le-Château\, France
GEO:49.244958;0.273769
X-APPLE-STRUCTURED-LOCATION;VALUE=URI;X-ADDRESS=Centre ville\, Blangy-le-Ch
 âteau\, France;X-APPLE-RADIUS=100;X-TITLE=Blangy-le-Château:geo:49.24495
 8,0.273769
END:VEVENT
END:VCALENDAR