BEGIN:VCALENDAR
VERSION:2.0
PRODID:-//wp-events-plugin.com//7.2.3.1//EN
BEGIN:VEVENT
UID:658@campinglebrevedent.com
DTSTART;VALUE=DATE:20250531
DTEND;VALUE=DATE:20250928
DTSTAMP:20250128T110335Z
URL:https://www.campinglebrevedent.com/events/cathedrale-de-lumiere/
SUMMARY:Cathédrale de Lumière
DESCRIPTION:Du 31 mai au 27 septembre 2025\, la façade extérieure de la c
 athédrale de Rouen s'illumine avec le spectacle Cathédrale de Lumière. 
 Deux projections monumentales sont au programme :\n\n 	Viking : Ce spectac
 le retrace les invasions scandinaves en Normandie au IXᵉ siècle\, de la
  première incursion en 841 jusqu'au traité de Saint-Clair-sur-Epte en 91
 1. Mêlant faits historiques et effets visuels spectaculaires\, il offre u
 ne immersion dans l'univers des hommes du Nord.\n 	Rendez-vous avec la Lum
 ière : Ce voyage visuel explore la lumière sous toutes ses formes\, depu
 is l'obscurité initiale jusqu'à la lumière domestiquée par l'homme\, e
 n passant par les merveilles lumineuses de la nature.\n\nLes horaires vari
 ent en fonction des dates :\n\n 	Du 31 mai au 28 juin : les vendredis et s
 amedis à 23h.\n 	Du 1ᵉʳ au 31 juillet : tous les soirs à 23h.\n 	Du 1
 ᵉʳ au 15 août : tous les soirs à 22h30.\n 	Du 16 au 31 août : tous l
 es soirs à 22h.\n 	Du 1ᵉʳ au 27 septembre : les vendredis et samedis 
 à 21h30.\n\nCes spectacles gratuits attirent chaque année de nombreux sp
 ectateurs\, émerveillés par la mise en lumière artistique de ce monumen
 t emblématique.\n\nPour plus d'informations\, cliquez ici!
ATTACH;FMTTYPE=image/jpeg:https://www.campinglebrevedent.com/wp-content/up
 loads/spectacle-cathedrale-de-lumiere-rouen-2025-projection-nocturne-sever
 ine-freres.jpg
LOCATION:Rouen\, Cathédrale Notre-Dame\, Rouen\, France
GEO:49.44014;1.095008
X-APPLE-STRUCTURED-LOCATION;VALUE=URI;X-ADDRESS=Cathédrale Notre-Dame\, Ro
 uen\, France;X-APPLE-RADIUS=100;X-TITLE=Rouen:geo:49.44014,1.095008
END:VEVENT
END:VCALENDAR