BEGIN:VCALENDAR
VERSION:2.0
PRODID:-//wp-events-plugin.com//7.2.3.1//EN
BEGIN:VEVENT
UID:7@campinglebrevedent.com
DTSTART:20240607T193000Z
DTEND:20240607T213000Z
DTSTAMP:20240416T121800Z
URL:https://www.campinglebrevedent.com/events/concert-swing-a-colleville/
SUMMARY:Concert Swing à Colleville
DESCRIPTION:Le 7 juin\, de 19h30 à 21h30\, ne manquez pas le Concert Swing
  à Colleville\, organisé par l'Overlord Museum. Le groupe Mamz'elle Bee 
 and the Boyz\, composé de 3 chanteuses et 4 musiciens\, vous fera vibrer 
 au son du swing\, du Charleston\, du Boogie-woogie et du jazz populaire de
 s années 40. Ce concert promet de vous transporter dans l'ambiance joyeus
 e et pleine d'énergie de l'époque de la libération.\n\nLa restauration 
 et la buvette seront disponibles sur place pour agrémenter votre soirée.
  De plus\, le public est invité à se plonger encore plus dans l'ambiance
  en venant habillé en tenues des années 40-50\, contribuant ainsi à une
  atmosphère festive unique.\n\nPour couronner l'événement\, le musée o
 rganise une nocturne et ne fermera ses portes qu'à 21h\, vous permettant 
 de profiter pleinement de l'expérience. C'est une occasion parfaite de co
 mbiner culture\, histoire et divertissement dans un cadre exceptionnel.
ATTACH;FMTTYPE=image/jpeg:https://www.campinglebrevedent.com/wp-content/up
 loads/D-Day-80e.jpg
CATEGORIES:En dehors du camping
LOCATION:Overlord Museum\, Lotissement Omaha Center\, Colleville-sur-Mer\, 
 14710 \, France
X-APPLE-STRUCTURED-LOCATION;VALUE=URI;X-ADDRESS=Lotissement Omaha Center\, 
 Colleville-sur-Mer\, 14710 \, France;X-APPLE-RADIUS=100;X-TITLE=Overlord M
 useum:geo:0,0
END:VEVENT
END:VCALENDAR