BEGIN:VCALENDAR
VERSION:2.0
PRODID:-//wp-events-plugin.com//7.2.3.1//EN
BEGIN:VEVENT
UID:1125@campinglebrevedent.com
DTSTART;VALUE=DATE:20260501
DTEND;VALUE=DATE:20260504
DTSTAMP:20260112T102549Z
URL:https://www.campinglebrevedent.com/events/coupe-du-deauville-yacht-clu
 b/
SUMMARY:Coupe du Deauville Yacht Club
DESCRIPTION:La Coupe du Deauville Yacht Club se déroulera du vendredi 1ᵉ
 ʳ au dimanche 3 mai 2026\, au Deauville Yacht Club\, dans le port de Deau
 ville (Calvados\, Normandie). Il s’agit d’une régate traditionnelle d
 e voile sportive qui réunit des équipages amateurs comme confirmés\, à
  bord de voiliers de sport – notamment des J80\, sporboats\, dragons et 
 quillards – sur des parcours côtiers et en boucles autour de la baie. P
 endant ces trois jours\, les compétitions sont pensées pour tester la te
 chnique et la cohésion des équipages\, tout en valorisant l’esprit de 
 la voile et de la convivialité propre au Yacht Club. Dans une ambiance à
  la fois sportive et maritime\, la Coupe du Deauville Yacht Club est un re
 ndez-vous apprécié par les passionnés de nautisme\, les participants et
  les spectateurs qui viennent encourager les équipages depuis le rivage o
 u les pontons.\n\nPour plus d'informations - cliquez ici!
ATTACH;FMTTYPE=image/jpeg:https://www.campinglebrevedent.com/wp-content/up
 loads/port-de-deauville-bateaux-julien-hananel.jpg
LOCATION:Deauville\, Yacht Club de Deauville\, Deauville\, France
GEO:49.362824;0.079622
X-APPLE-STRUCTURED-LOCATION;VALUE=URI;X-ADDRESS=Yacht Club de Deauville\, D
 eauville\, France;X-APPLE-RADIUS=100;X-TITLE=Deauville:geo:49.362824,0.079
 622
END:VEVENT
END:VCALENDAR