BEGIN:VCALENDAR
VERSION:2.0
PRODID:-//wp-events-plugin.com//7.2.3.1//EN
BEGIN:VEVENT
UID:1101@campinglebrevedent.com
DTSTART;VALUE=DATE:20260509
DTEND;VALUE=DATE:20260531
DTSTAMP:20260109T141832Z
URL:https://www.campinglebrevedent.com/events/curieux-printemps-2/
SUMMARY:Curieux Printemps
DESCRIPTION:Le festival Curieux Printemps se déroulera du samedi 9 au same
 di 30 mai 2026\, dans la Métropole Rouen Normandie (Seine-Maritime\, Norm
 andie). Ce festival de spectacle vivant transforme la ville en une vaste s
 cène artistique en investissant des lieux insolites et variés — places
  publiques\, parcs\, bibliothèques\, centres culturels\, halls d’immeub
 les ou théâtres — pour faire découvrir au public la richesse et la di
 versité des arts de la scène. Théâtre\, danse\, marionnette\, musique\
 , poésie\, cirque ou performance se côtoient pour offrir une programmati
 on éclectique portée par artistes locaux\, régionaux et compagnies cré
 atives\, invitant petits et grands à éveiller leur curiosité et à se l
 aisser surprendre. Pensé comme un temps fort culturel\, accessible et con
 vivial\, Curieux Printemps met l’accent sur la proximité\, la rencontre
  et la découverte\, offrant à tous des moments d’émerveillement\, d
 ’échange et de partage tout au long du mois de mai à Rouen et dans ses
  environs.\n\nPour plus d'informations - cliquez ici!
ATTACH;FMTTYPE=image/jpeg:https://www.campinglebrevedent.com/wp-content/up
 loads/curieux-printemps-festival-rouen.jpg
LOCATION:Rouen\, Centre ville\, Rouen\, France
GEO:49.443526;1.098431
X-APPLE-STRUCTURED-LOCATION;VALUE=URI;X-ADDRESS=Centre ville\, Rouen\, Fran
 ce;X-APPLE-RADIUS=100;X-TITLE=Rouen:geo:49.443526,1.098431
END:VEVENT
END:VCALENDAR