BEGIN:VCALENDAR
VERSION:2.0
PRODID:-//wp-events-plugin.com//7.2.3.1//EN
BEGIN:VEVENT
UID:490@campinglebrevedent.com
DTSTART;VALUE=DATE:20250531
DTEND;VALUE=DATE:20250616
DTSTAMP:20250121T094058Z
URL:https://www.campinglebrevedent.com/events/d-day-festival-normandy/
SUMMARY:D-Day Festival Normandy
DESCRIPTION:Le D-Day Festival Normandy est un événement annuel qui commé
 more le Débarquement allié du 6 juin 1944 en Normandie. Chaque année\, 
 autour de cette date historique\, une série de manifestations festives et
  culturelles est organisée sur l'ensemble des plages du Débarquement\, d
 e Utah Beach à Sword Beach. Du 31 mai au 15 juin 2025\, le festival propo
 sera un programme riche et varié\, incluant des parachutages\, des défil
 és de véhicules militaires et civils\, des concerts de musiques des ann
 ées 1940\, des bals populaires\, des reconstitutions historiques\, des fe
 ux d'artifice\, des expositions et des projections de documentaires. Ces a
 ctivités visent à célébrer la liberté retrouvée et à honorer la mé
 moire de ceux qui ont participé au Débarquement. Les festivités se dér
 ouleront sur plusieurs sites emblématiques\, notamment à Caen\, Bayeux\,
  Arromanches\, Sainte-Mère-Église et bien d'autres localités situées l
 e long du littoral normand. Le D-Day Festival Normandy est un événement 
 fédérateur qui attire chaque année de nombreux visiteurs\, désireux de
  se souvenir et de célébrer cet épisode marquant de l'histoire.\n\nPour
  plus d'informations - cliquez ici!
ATTACH;FMTTYPE=image/jpeg:https://www.campinglebrevedent.com/wp-content/up
 loads/d-day-festival-normandie-2025.jpg
END:VEVENT
END:VCALENDAR