BEGIN:VCALENDAR
VERSION:2.0
PRODID:-//wp-events-plugin.com//7.2.3.1//EN
BEGIN:VEVENT
UID:423@campinglebrevedent.com
DTSTART:20240705T113000Z
DTEND:20240830T123000Z
DTSTAMP:20240616T141908Z
URL:https://www.campinglebrevedent.com/events/decouverte-des-plantes-comes
 tibles/
SUMMARY:Découverte des plantes comestibles
DESCRIPTION:Tous les vendredis de juillet et août\, de 11h30 à 12h30\, Re
 becca emmène toute la famille à la découverte des plantes comestibles q
 ui poussent au sein du camping.\n\nCet atelier est un moment enrichissant 
 qui permet d'apprendre à reconnaître et à utiliser les plantes sauvages
  dans l'alimentation.\n\nVous serez initiés aux techniques de cueillette\
 , de préparation et de dégustation.\n\nUne expérience sensorielle et é
 ducative pour toute la famille qui développera une nouvelle relation avec
  les plantes et apprendra à valoriser les ressources naturelles.
ATTACH;FMTTYPE=image/jpeg:https://www.campinglebrevedent.com/wp-content/up
 loads/atelier-plantes-comestibles-camping-normandie.jpg
END:VEVENT
END:VCALENDAR