BEGIN:VCALENDAR
VERSION:2.0
PRODID:-//wp-events-plugin.com//7.2.3.1//EN
BEGIN:VEVENT
UID:478@campinglebrevedent.com
DTSTART;VALUE=DATE:20250725
DTEND;VALUE=DATE:20250728
DTSTAMP:20241204T145859Z
URL:https://www.campinglebrevedent.com/events/equirando/
SUMMARY:Équirando
DESCRIPTION:L'Équirando\, le plus grand rassemblement européen de cavalie
 rs randonneurs\, tiendra sa 55ᵉ édition du 25 au 27 juillet 2025 à Bag
 noles de l'Orne\, en Normandie\, au cœur de la forêt des Andaines. L'év
 énement propose trois jours de festivités\, incluant des randonnées\, d
 es animations culturelles et des découvertes gastronomiques locales. Les 
 participants\, appelés Équirandins\, parcourent au moins 100 km à cheva
 l pour rejoindre le lieu de rassemblement\, favorisant la découverte des 
 paysages et du patrimoine normand.\n\nPour plus d'informations - cliquez i
 ci!
ATTACH;FMTTYPE=image/jpeg:https://www.campinglebrevedent.com/wp-content/up
 loads/equirando-2025-bagnoles-normandie.jpg
LOCATION:Bagnoles de l'Orne\, Le Bourg\, Bagnoles de l'Orne\, France
GEO:48.558399;-0.415091
X-APPLE-STRUCTURED-LOCATION;VALUE=URI;X-ADDRESS=Le Bourg\, Bagnoles de l'Or
 ne\, France;X-APPLE-RADIUS=100;X-TITLE=Bagnoles de l'Orne:geo:48.558399,-0
 .415091
END:VEVENT
END:VCALENDAR