BEGIN:VCALENDAR
VERSION:2.0
PRODID:-//wp-events-plugin.com//7.2.3.1//EN
BEGIN:VEVENT
UID:630@campinglebrevedent.com
DTSTART;VALUE=DATE:20250701
DTEND;VALUE=DATE:20250901
DTSTAMP:20241210T134559Z
URL:https://www.campinglebrevedent.com/events/estivales-de-cabourg/
SUMMARY:Estivales de Cabourg
DESCRIPTION:Les Estivales de Cabourg sont un événement estival incontourn
 able qui se déroule chaque année en juillet et août à l'hippodrome de 
 Cabourg. Elles combinent courses hippiques nocturnes et animations festive
 s\, offrant une expérience unique aux visiteurs. En 2025\, les Estivales 
 se tiendront du 1er juillet au 31 août\, avec des réunions de courses ch
 aque mardi et vendredi soir\, de 18h30 à 22h30.\n\nProgramme :\n\n 	Cours
 es hippiques nocturnes : Les meilleurs trotteurs s'affrontent sous les pro
 jecteurs\, créant une atmosphère électrisante.\n 	Animations pour tous 
 : Baptêmes de poneys\, structures gonflables et petite ferme pour les enf
 ants.\n 	Soirées thématiques : Chaque soirée propose une ambiance spéc
 ifique\, avec des animations musicales et gastronomiques en lien avec le t
 hème choisi.\n 	Feux d'artifice : Deux spectacles pyrotechniques sont pr
 évus\, l'un fin juillet et l'autre fin août\, pour clôturer en beauté 
 certaines soirées.\n\nLes Estivales de Cabourg offrent une occasion uniqu
 e de découvrir l'univers des courses hippiques dans une ambiance festive 
 et conviviale\, idéale pour des sorties en famille ou entre amis.\n\nPour
  plus d'informations - cliquez ici!
ATTACH;FMTTYPE=image/jpeg:https://www.campinglebrevedent.com/wp-content/up
 loads/course-nocturne-estivales-cabourg-calvados-2025.jpg
LOCATION:Cabourg\, Hippodrome de Cabourg\, Cabourg\, France
GEO:49.280086;-0.121057
X-APPLE-STRUCTURED-LOCATION;VALUE=URI;X-ADDRESS=Hippodrome de Cabourg\, Cab
 ourg\, France;X-APPLE-RADIUS=100;X-TITLE=Cabourg:geo:49.280086,-0.121057
END:VEVENT
END:VCALENDAR