BEGIN:VCALENDAR
VERSION:2.0
PRODID:-//wp-events-plugin.com//7.2.3.1//EN
BEGIN:VEVENT
UID:13@campinglebrevedent.com
DTSTART;VALUE=DATE:20240704
DTEND;VALUE=DATE:20240708
DTSTAMP:20240416T121336Z
URL:https://www.campinglebrevedent.com/events/festival-beauregard/
SUMMARY:Festival Beauregard
DESCRIPTION:Le Festival Beauregard\, situé dans le cadre pittoresque du Ca
 lvados en Normandie\, est un brillant exemple de la façon dont un événe
 ment musical peut transcender les frontières de la simple performance pou
 r devenir une expérience culturelle et sensorielle complète. Voici quelq
 ues points clés qui font de ce festival une destination incontournable po
 ur les amateurs de musique et de culture :\n\n&nbsp\;\n\n**Lieu Historique
  et Naturel**\n\nLe choix du Château de Beauregard comme lieu du festival
  est en lui-même une invitation à l'émerveillement. Situé à Hérouvil
 le-Saint-Clair\, le château et ses 23 hectares de prairie et de bois offr
 ent un cadre majestueux\, mêlant histoire et nature\, pour les festivité
 s. Cette fusion crée une atmosphère unique\, où la musique résonne non
  seulement dans les oreilles mais aussi dans le cœur des participants.\n\
 n&nbsp\;\n\n 	**Diversité Musicale**\n\nL'engagement du festival Beaurega
 rd à présenter une programmation éclectique est l'une de ses forces maj
 eures. En accueillant des artistes de genres variés tels que la pop\, le 
 hip-hop\, l'électro et le hard-rock\, le festival assure une richesse mus
 icale qui attire un public diversifié\, de tous âges et de tous horizons
 . Cette diversité reflète la volonté du festival de célébrer la musiq
 ue sous toutes ses formes.\n\n&nbsp\;\n\n**Convivialité et Partage**\n\nA
 u-delà des concerts\, Beauregard se veut un lieu de convivialité et de p
 artage. Les espaces de détente\, les ateliers créatifs\, et les scènes 
 intimistes dédiées aux artistes locaux invitent à la découverte et à 
 l'échange. C'est cette ambiance chaleureuse\, où chaque participant peut
  trouver son espace d'expression\, qui contribue à l'atmosphère unique d
 u festival.\n\n&nbsp\;\n\n**Gastronomie Locale**\n\nL'expérience Beaurega
 rd est également gustative\, avec des stands de cuisine locale qui metten
 t en valeur les produits du terroir normand. Cette dimension culinaire enr
 ichit l'expérience du festival\, permettant aux festivaliers de savourer 
 des mets délicieux tout en découvrant de nouveaux sons.\n\n&nbsp\;\n\nLe
  Festival Beauregard n'est pas seulement un événement musical \; c'est u
 ne célébration de la vie\, une fusion de l'histoire\, de la nature\, et 
 de la culture qui offre une expérience inoubliable. Il incarne l'esprit d
 u Calvados\, avec son accueil chaleureux\, sa richesse culturelle\, et sa 
 beauté naturelle\, faisant de chaque édition un moment attendu tant par 
 les habitants que par les visiteurs venus de loin.
ATTACH;FMTTYPE=image/jpeg:https://www.campinglebrevedent.com/wp-content/up
 loads/Festival-Beauregard.jpg
CATEGORIES:En dehors du camping
END:VEVENT
END:VCALENDAR