BEGIN:VCALENDAR
VERSION:2.0
PRODID:-//wp-events-plugin.com//7.2.3.1//EN
BEGIN:VEVENT
UID:1157@campinglebrevedent.com
DTSTART;VALUE=DATE:20260502
DTEND;VALUE=DATE:20260504
DTSTAMP:20260113T101644Z
URL:https://www.campinglebrevedent.com/events/festival-des-aoc-aop-de-camb
 remer-2/
SUMMARY:Festival des AOC-AOP de Cambremer
DESCRIPTION:Le Festival des AOC-AOP de Cambremer se déroulera les samedi 2
  et dimanche 3 mai 2026\, à Cambremer (Calvados\, Normandie). Ce rendez-v
 ous gourmand met à l’honneur les produits sous appellation d’origine 
 AOC et AOP\, véritables ambassadeurs des savoir-faire agricoles et gastro
 nomiques français. Pendant deux jours\, producteurs\, artisans et passion
 nés se retrouvent pour proposer dégustations\, rencontres\, animations e
 t découvertes culinaires\, dans une ambiance conviviale et festive au cœ
 ur du Pays d’Auge. Ouvert à tous\, le Festival des AOC-AOP de Cambremer
  s’impose comme un temps fort printanier pour les amateurs de terroir\, 
 de gastronomie et de patrimoine vivant.\n\nPour plus d'informations - cliq
 uez ici!
ATTACH;FMTTYPE=image/jpeg:https://www.campinglebrevedent.com/wp-content/up
 loads/aoc-aop-festival-cambremer-normandie.jpg
LOCATION:Cambremer\, Centre ville\, Cambremer\, France
GEO:49.150643;0.048774
X-APPLE-STRUCTURED-LOCATION;VALUE=URI;X-ADDRESS=Centre ville\, Cambremer\, 
 France;X-APPLE-RADIUS=100;X-TITLE=Cambremer:geo:49.150643,0.048774
END:VEVENT
END:VCALENDAR