BEGIN:VCALENDAR
VERSION:2.0
PRODID:-//wp-events-plugin.com//7.2.3.1//EN
BEGIN:VEVENT
UID:462@campinglebrevedent.com
DTSTART;VALUE=DATE:20240823
DTEND;VALUE=DATE:20240826
DTSTAMP:20240618T132035Z
URL:https://www.campinglebrevedent.com/events/festival-du-manga-deauville/
SUMMARY:Festival du Manga Deauville
DESCRIPTION:Le festival Manga de Deauville est un événements incontournab
 le pour les fans de la culture japonaise et des mangas.\n\nDu 23 au 25 ao
 ût\, il rassemble des passionnés\, des artistes et des créateurs pour c
 élébrer cet univers fascinant.\n\nAu programme\, des projections de film
 s\, des expositions\, des rencontres avec des mangakas renommés et bien d
 'autres activités pour plonger dans l'univers coloré et captivants des m
 angas.\n\nC'est un rendez-vous à ne pas manquer pour les amateurs de mang
 a et de Japanime.
ATTACH;FMTTYPE=image/jpeg:https://www.campinglebrevedent.com/wp-content/up
 loads/festival-manga-deauville-cote-fleurie-calvados.jpg
LOCATION:CID Deauville\, 1 rue Lucien Barrière\, Deauville\, 14800\, Franc
 e
GEO:49.360883;0.068289
X-APPLE-STRUCTURED-LOCATION;VALUE=URI;X-ADDRESS=1 rue Lucien Barrière\, De
 auville\, 14800\, France;X-APPLE-RADIUS=100;X-TITLE=CID Deauville:geo:49.3
 60883,0.068289
END:VEVENT
END:VCALENDAR