BEGIN:VCALENDAR
VERSION:2.0
PRODID:-//wp-events-plugin.com//7.2.3.1//EN
BEGIN:VEVENT
UID:1065@campinglebrevedent.com
DTSTART;VALUE=DATE:20260703
DTEND;VALUE=DATE:20260705
DTSTAMP:20260107T085746Z
URL:https://www.campinglebrevedent.com/events/festival-les-24h-du-tormelli
 er/
SUMMARY:Festival Les 24H du Tormellier
DESCRIPTION:Le festival Les 24h du Tormellier se déroulera les vendredi 3 
 et samedi 4 juillet 2026\, à Saint-Pierre-de-Cormeilles (Eure\, Normandie
 ). Ce festival à taille humaine propose deux jours et une nuit de concert
 s live\, réunissant 8 groupes principalement orientés rock\, dans une am
 biance conviviale et festive. Fidèle à son esprit associatif et solidair
 e\, l’événement propose des consommations à tarif libre\, tandis que 
 l’entrée du festival reste payante. Pensé comme un rendez-vous familia
 l\, populaire et accessible\, Les 24h du Tormellier mêlent musique\, part
 age et engagement local\, avec restauration sur place\, buvette et espaces
  de convivialité\, et s’imposent comme un temps fort musical de l’ét
 é en Normandie.\n\nPour plus d'informations - cliquez ici!
ATTACH;FMTTYPE=image/jpeg:https://www.campinglebrevedent.com/wp-content/up
 loads/les-24h-du-tormellier-festival-affiche-officielle.jpg
LOCATION:Les Jardins du Tormellier\, 1 Chemin du Tormellier\, Saint-Pierre-
 de-Cormeilles\, France
GEO:49.239273;0.363646
X-APPLE-STRUCTURED-LOCATION;VALUE=URI;X-ADDRESS=1 Chemin du Tormellier\, Sa
 int-Pierre-de-Cormeilles\, France;X-APPLE-RADIUS=100;X-TITLE=Les Jardins d
 u Tormellier:geo:49.239273,0.363646
END:VEVENT
END:VCALENDAR