BEGIN:VCALENDAR
VERSION:2.0
PRODID:-//wp-events-plugin.com//7.2.3.1//EN
BEGIN:VEVENT
UID:690@campinglebrevedent.com
DTSTART;VALUE=DATE:20250823
DTEND;VALUE=DATE:20250831
DTSTAMP:20250128T154810Z
URL:https://www.campinglebrevedent.com/events/festival-vibrations/
SUMMARY:Festival Vibrations
DESCRIPTION:Le Festival Vibrations tiendra sa 11ᵉ édition du 23 au 30 ao
 ût 2025 au Jardin des Plantes de Rouen. Organisé par Lolaï Productions\
 , cet événement propose une programmation éclectique\, mêlant musiques
  du monde\, jazz\, blues\, rap\, house orientale et électro. Les concerts
  se déroulent dans une ambiance conviviale\, idéale pour les familles et
  les amis.\n\nPour plus d'informations\, cliquez ici!
ATTACH;FMTTYPE=image/jpeg:https://www.campinglebrevedent.com/wp-content/up
 loads/festival-vibrations-rouen-2025-lolai-productions.jpg
LOCATION:Jardin des Plantes\, 114B Avenue des Martyrs de la Résistance\, R
 ouen\, France
GEO:49.421061;1.076804
X-APPLE-STRUCTURED-LOCATION;VALUE=URI;X-ADDRESS=114B Avenue des Martyrs de 
 la Résistance\, Rouen\, France;X-APPLE-RADIUS=100;X-TITLE=Jardin des Plan
 tes:geo:49.421061,1.076804
END:VEVENT
END:VCALENDAR