BEGIN:VCALENDAR
VERSION:2.0
PRODID:-//wp-events-plugin.com//7.2.3.1//EN
BEGIN:VEVENT
UID:1161@campinglebrevedent.com
DTSTART;VALUE=DATE:20260503
DTEND;VALUE=DATE:20260504
DTSTAMP:20260113T143337Z
URL:https://www.campinglebrevedent.com/events/fete-des-geraniums/
SUMMARY:Fête des Géraniums
DESCRIPTION:La Fête des Géraniums se déroulera le dimanche 3 mai 2026\, 
 à Beuvron-en-Auge (Calvados\, Normandie). Cette fête familiale et très 
 florale célèbre les géraniums qui abondent et fleurissent dans l’un d
 es Plus Beaux Villages de France\, et met également à l’honneur les ho
 rticulteurs passionnés qui les cultivent. Sur la place Vermughen et dans 
 les rues du village\, découvrez des stands d’exposants horticoles\, des
  décorations de jardins\, des activités pour enfants (ateliers\, jeux\, 
 promenades en poney)\, des démonstrations d’art floral\, et une atmosph
 ère bucolique et conviviale. L’événement est une belle occasion de pr
 ofiter du printemps normand\, de flâner parmi les fleurs et d’admirer l
 e centre-ville piétonnier spécialement aménagé pour l’occasion.\n\nP
 our plus d'informations - cliquez ici!
ATTACH;FMTTYPE=image/jpeg:https://www.campinglebrevedent.com/wp-content/up
 loads/fete-des-geraniums-beuvron-en-auge-julien-boisard.jpg
LOCATION:Beuvron-en-Auge\, Centre ville\, Beuvron-en-Auge\, France
GEO:49.187461;-0.047156
X-APPLE-STRUCTURED-LOCATION;VALUE=URI;X-ADDRESS=Centre ville\, Beuvron-en-A
 uge\, France;X-APPLE-RADIUS=100;X-TITLE=Beuvron-en-Auge:geo:49.187461,-0.0
 47156
END:VEVENT
END:VCALENDAR