BEGIN:VCALENDAR
VERSION:2.0
PRODID:-//wp-events-plugin.com//7.2.3.1//EN
BEGIN:VEVENT
UID:1105@campinglebrevedent.com
DTSTART;VALUE=DATE:20260514
DTEND;VALUE=DATE:20260517
DTSTAMP:20260109T143754Z
URL:https://www.campinglebrevedent.com/events/fetes-jeanne-darc-2/
SUMMARY:Fêtes Jeanne d’Arc
DESCRIPTION:Les Fêtes Jeanne d’Arc se dérouleront du vendredi 14 au dim
 anche 16 mai 2026\, à Rouen (Seine-Maritime\, Normandie). À l’occasion
  de leur 5ᵉ édition\, ces festivités célèbrent la mémoire et l’hi
 stoire de Jeanne d’Arc\, figure emblématique de la ville et de la Norma
 ndie\, à travers un programme riche mêlant cérémonies historiques\, re
 constitutions\, défilés\, animations\, concerts\, marchés médiévaux\,
  spectacles de rue et activités familiales. Durant trois jours\, Rouen se
  transforme pour offrir aux visiteurs une immersion dans l’époque médi
 évale\, avec des temps forts comme la cérémonie officielle\, les parade
 s costumées et les moments de commémoration\, tout en favorisant une amb
 iance conviviale et populaire. Pensées comme un rendez-vous culturel\, fe
 stif et patrimonial\, les Fêtes Jeanne d’Arc invitent habitants\, curie
 ux et touristes à vivre l’histoire au présent\, à travers une céléb
 ration qui allie histoire locale\, spectacle vivant et partage.\n\nPour pl
 us d'informations - cliquez ici!
ATTACH;FMTTYPE=image/jpeg:https://www.campinglebrevedent.com/wp-content/up
 loads/fetes-jeanne-darc-rouen.jpg
LOCATION:Rouen\, Centre ville\, Rouen\, France
GEO:49.443526;1.098431
X-APPLE-STRUCTURED-LOCATION;VALUE=URI;X-ADDRESS=Centre ville\, Rouen\, Fran
 ce;X-APPLE-RADIUS=100;X-TITLE=Rouen:geo:49.443526,1.098431
END:VEVENT
END:VCALENDAR