BEGIN:VCALENDAR
VERSION:2.0
PRODID:-//wp-events-plugin.com//7.2.3.1//EN
BEGIN:VEVENT
UID:498@campinglebrevedent.com
DTSTART;VALUE=DATE:20250704
DTEND;VALUE=DATE:20250708
DTSTAMP:20241206T091954Z
URL:https://www.campinglebrevedent.com/events/grandes-voiles-du-havre/
SUMMARY:Grandes Voiles du Havre
DESCRIPTION:Les Grandes Voiles du Havre feront leur grand retour du 4 au 7 
 juillet 2025\, transformant Le Havre en un port d'attache pour certains de
 s plus majestueux voiliers du monde. Cet événement marquera le départ d
 e la première étape de la Tall Ships' Races 2025\, une course prestigieu
 se organisée par Sail Training International.\n\nProgramme:\n\n 	Visites 
 des Voiliers : Une quarantaine de grands voiliers\, tels que le Belem\, le
  Morgenster et le Thalassa\, seront amarrés dans les bassins Paul Vatine 
 et de l’Eure. Le public aura l'opportunité de monter à bord et de déc
 ouvrir ces navires d'exception.\n 	Animations et Festivités : Des concert
 s\, des spectacles\, des parades d'équipages\, ainsi qu'un feu d'artifice
  de clôture\, rythmeront ces quatre jours de célébration maritime.\n 	P
 arade en Mer : Le point culminant sera la grande parade de sortie des navi
 res en baie du Havre\, offrant un spectacle époustouflant aux spectateurs
 .\n\nDans le cadre de la Tall Ships' Races\, une centaine de jeunes\, appe
 lés "apprentis-matelots"\, auront l'opportunité unique d'embarquer à bo
 rd de ces voiliers pour une étape de la course\, notamment celle reliant 
 Le Havre à Dunkerque. Ce programme vise à promouvoir la formation mariti
 me et l'échange culturel entre les participants. Les Grandes Voiles du Ha
 vre 2025 s'annoncent comme un événement maritime majeur\, célébrant le
  patrimoine naval et offrant une expérience inoubliable aux passionnés d
 e la mer et au grand public.\n\nPour plus d'informations - cliquez ici!
ATTACH;FMTTYPE=image/jpeg:https://www.campinglebrevedent.com/wp-content/up
 loads/les-grandes-voiles-du-havre-2025-seine-maritime-normandie.jpg
LOCATION:Le Havre\, Bassins Paul Vatine et de l’Eure\, Le Havre\, France
GEO:49.488747;0.129334
X-APPLE-STRUCTURED-LOCATION;VALUE=URI;X-ADDRESS=Bassins Paul Vatine et de l
 ’Eure\, Le Havre\, France;X-APPLE-RADIUS=100;X-TITLE=Le Havre:geo:49.488
 747,0.129334
END:VEVENT
END:VCALENDAR