BEGIN:VCALENDAR
VERSION:2.0
PRODID:-//wp-events-plugin.com//7.2.3.1//EN
BEGIN:VEVENT
UID:750@campinglebrevedent.com
DTSTART;VALUE=DATE:20250903
DTEND;VALUE=DATE:20250908
DTSTAMP:20250130T111036Z
URL:https://www.campinglebrevedent.com/events/houlgate-festival-et-baie-de
 -scene/
SUMMARY:Houlgate Festival et Baie de Scène
DESCRIPTION:Le Houlgate Festival et Baie de Scène est un événement cultu
 rel incontournable en Normandie\, prévu pour se dérouler du 3 au 7 septe
 mbre 2025 à Houlgate. Ce festival\, qui allie théâtre\, musique et humo
 ur\, attire chaque année un public varié\, curieux de découvrir des spe
 ctacles vivants dans une ambiance conviviale et chaleureuse.\n\nLe festiva
 l met en avant des artistes talentueux\, qu'ils soient confirmés ou émer
 gents\, avec une programmation qui mêle pièces de théâtre\, one-man sh
 ows\, concerts\, et parfois même des performances interactives. Les spect
 acles ont principalement lieu dans le cinéma d'Houlgate\, un lieu emblém
 atique de la ville qui offre une proximité unique entre les artistes et l
 e public.\n\nLe Houlgate Festival et Baie de Scène est une belle manière
  de prolonger l’été avec des spectacles de qualité dans une station b
 alnéaire agréable. Que vous soyez amateur de théâtre\, de musique ou s
 implement en quête de moments culturels enrichissants\, ce festival prome
 t une édition 2025 pleine de découvertes et d’émotions.\n\nPour plus 
 d'informations\, cliquez ici!
ATTACH;FMTTYPE=image/jpeg:https://www.campinglebrevedent.com/wp-content/up
 loads/festival-houlgate-baie-de-scene-2025-humour-theatre.jpg
LOCATION:Casino de Houlgate\, 41 Rue Henri Dobert\, Houlgate\, France
GEO:49.305541;-0.073735
X-APPLE-STRUCTURED-LOCATION;VALUE=URI;X-ADDRESS=41 Rue Henri Dobert\, Houlg
 ate\, France;X-APPLE-RADIUS=100;X-TITLE=Casino de Houlgate:geo:49.305541,-
 0.073735
END:VEVENT
END:VCALENDAR