BEGIN:VCALENDAR
VERSION:2.0
PRODID:-//wp-events-plugin.com//7.2.3.1//EN
BEGIN:VEVENT
UID:718@campinglebrevedent.com
DTSTART:20250714T180000Z
DTEND:20250714T235900Z
DTSTAMP:20250129T143827Z
URL:https://www.campinglebrevedent.com/events/le-14-juillet-au-camping-le-
 brevedent/
SUMMARY:Le 14 juillet au Camping Le Brévedent
DESCRIPTION:Chaque année\, le 14 juillet est un moment phare au Castel Cam
 ping Le Brévedent. Dans ce cadre enchanteur\, la fête nationale prend un
 e dimension unique\, où convivialité et spectacle se mêlent pour offrir
  une soirée inoubliable aux campeurs.\n\nLes festivités débutent par un
  barbecue géant devant le manoir\, un moment de partage où chacun peut s
 avourer de délicieuses grillades dans une ambiance chaleureuse et détend
 ue. Installés sous les arbres centenaires ou autour des grandes tablées\
 , les campeurs échangent\, rient et profitent d’un repas en plein air\,
  bercé par l’odeur des braises et le murmure de la nature environnante.
 \n\nAu fil de la soirée\, la musique prend le relais. Un concert en plein
  air s’installe devant le manoir\, réunissant artistes et campeurs auto
 ur de rythmes entraînants. Chacun se laisse porter par les mélodies\, da
 nsant sous les guirlandes lumineuses et profitant de cette atmosphère fes
 tive où la bonne humeur est toujours au rendez-vous.\n\nPuis\, à la tomb
 ée de la nuit\, le clou du spectacle illumine le ciel. Un feu d’artific
 e majestueux est tiré au-dessus du lac\, offrant un jeu de lumières fée
 rique qui se reflète sur l’eau. Un instant suspendu\, où petits et gra
 nds contemplent émerveillés ce ballet de couleurs qui vient clôturer ce
 tte soirée magique.\n\nLe 14 juillet au Brévedent\, c’est bien plus qu
 ’une fête : c’est une célébration de l’été\, du partage et de l
 a beauté du lieu. Un moment unique à vivre et à revivre\, dans l’espr
 it chaleureux et authentique du camping.
ATTACH;FMTTYPE=image/jpeg:https://www.campinglebrevedent.com/wp-content/up
 loads/feu-artifice-normandie-2025-festivites-camping-le-brevedent.jpg
LOCATION:Castel Camping Le Brévedent\, Route du Pin\, Le Brévedent\, Fran
 ce
GEO:49.225155;0.305142
X-APPLE-STRUCTURED-LOCATION;VALUE=URI;X-ADDRESS=Route du Pin\, Le Bréveden
 t\, France;X-APPLE-RADIUS=100;X-TITLE=Castel Camping Le Brévedent:geo:49.
 225155,0.305142
END:VEVENT
END:VCALENDAR