BEGIN:VCALENDAR
VERSION:2.0
PRODID:-//wp-events-plugin.com//7.2.3.1//EN
BEGIN:VEVENT
UID:12@campinglebrevedent.com
DTSTART;VALUE=DATE:20240629
DTEND;VALUE=DATE:20240706
DTSTAMP:20240416T121330Z
URL:https://www.campinglebrevedent.com/events/le-championnat-du-monde-de-c
 har-a-voile/
SUMMARY:Le Championnat du monde de Char à Voile
DESCRIPTION:Le Championnat du monde de Char à Voile prévu à Asnelles en 
 2024 est un événement qui souligne l'importance et l'attrait du char à 
 voile comme discipline sportive\, mais aussi sa capacité à rassembler de
 s personnes de divers horizons autour d'une passion commune pour la vitess
 e et la maîtrise technique. Voici plus de détails sur différents aspect
 s de cet événement :\n\n&nbsp\;\n\n**La Discipline du Char à Voile**\n\
 nLe char à voile\, ou landsailing\, est un sport qui consiste à piloter 
 un véhicule à trois ou quatre roues propulsé par une voile\, sur des pl
 ages ou des étendues de terre plate. C'est un sport qui allie la finesse 
 de la navigation à voile à l'excitation de la course automobile\, offran
 t une expérience unique de vitesse au ras du sol\, poussé par le vent.\n
 \n&nbsp\;\n\n**Le Cadre d'Asnelles**\n\nAsnelles et Gold Beach\, où se ti
 endra le championnat\, offrent un cadre spectaculaire pour cette compétit
 ion. Ces plages\, chargées d'histoire\, notamment en lien avec le Débarq
 uement de Normandie\, offrent des conditions idéales pour le char à voil
 e : de vastes étendues de sable et des vents réguliers. C'est un lieu o
 ù la beauté naturelle de la Normandie se mêle à l'histoire\, créant u
 n arrière-plan inoubliable pour les compétitions.\n\n&nbsp\;\n\n**Les Pa
 rticipants et Spectateurs**\n\nL'événement attire des compétiteurs de h
 aut niveau venant du monde entier\, chacun apportant ses techniques\, son 
 expérience et sa passion pour le sport. Pour les spectateurs\, ce sera un
 e occasion unique de voir de près l'intensité de la compétition et la m
 aîtrise des pilotes. Les initiations et démonstrations prévues permettr
 ont également à ceux qui sont nouveaux dans ce sport de le découvrir de
  manière interactive et divertissante.\n\n&nbsp\;\n\n**L'Expérience Uniq
 ue**\n\nParticiper ou assister au Championnat du Monde de Char à Voile en
  2024 promet d'être une expérience mémorable. Que ce soit pour le friss
 on de la compétition\, la beauté du paysage\, l'apprentissage d'un nouve
 au sport\, ou simplement pour profiter de l'atmosphère festive\, cet év
 énement a quelque chose à offrir à chacun.\n\n&nbsp\;\n\nEn somme\, le 
 Championnat du monde de Char à Voile à Asnelles est bien plus qu'un simp
 le événement sportif \; c'est une célébration de la passion\, de l'his
 toire\, et de la communauté qui promet d'être un moment fort de l'année
  2024 en Normandie.
ATTACH;FMTTYPE=image/jpeg:https://www.campinglebrevedent.com/wp-content/up
 loads/Championnats-du-de-char-a-voile.png
CATEGORIES:En dehors du camping
END:VEVENT
END:VCALENDAR