BEGIN:VCALENDAR
VERSION:2.0
PRODID:-//wp-events-plugin.com//7.2.3.1//EN
BEGIN:VEVENT
UID:810@campinglebrevedent.com
DTSTART;VALUE=DATE:20250605
DTEND;VALUE=DATE:20250905
DTSTAMP:20250504T153343Z
URL:https://www.campinglebrevedent.com/events/les-jeudis-du-pin/
SUMMARY:Les Jeudis du Pin
DESCRIPTION:Les « Jeudis du Pin » reviennent au Haras national du Pin
  du 5 juin au 4 septembre 2025\, pour une nouvelle saison de spectacles é
 questres mêlant tradition\, élégance et savoir-faire. Chaque jeudi apr
 ès-midi\, ce rendez-vous incontournable invite les visiteurs à découvri
 r l’art équestre dans un cadre patrimonial exceptionnel.\nLe spectacle 
 se déroule en extérieur\, dans la Carrière de la Poste\, et présente u
 ne variété de disciplines équestres : chevaux en liberté\, dressage\, 
 voltige\, saut d’obstacles\, démonstrations de traction par les Percher
 ons et Cobs normands. La représentation s’achève en beauté par un dé
 filé d’attelages de tradition\, menés par les agents du Haras en habit
  rouge\, dans la majestueuse cour d’honneur du château.\nLes « Jeudi
 s du Pin » offrent une immersion unique dans l’univers du cheval\, al
 liant performances artistiques et patrimoine vivant\, pour le plaisir des 
 petits et des grands.\nPour plus d'infos\, cliquez ici!
ATTACH;FMTTYPE=image/jpeg:https://www.campinglebrevedent.com/wp-content/up
 loads/spectacle-equestre-jeudis-du-pin-haras-du-pin-credit-haras-national-
 du-pin.jpg
LOCATION:Haras du Pin\, Haras du Pin\, Le Pin-au-Haras\, France
GEO:48.738992;0.147031
X-APPLE-STRUCTURED-LOCATION;VALUE=URI;X-ADDRESS=Haras du Pin\, Le Pin-au-Ha
 ras\, France;X-APPLE-RADIUS=100;X-TITLE=Haras du Pin:geo:48.738992,0.14703
 1
END:VEVENT
END:VCALENDAR