BEGIN:VCALENDAR
VERSION:2.0
PRODID:-//wp-events-plugin.com//7.2.3.1//EN
BEGIN:VEVENT
UID:774@campinglebrevedent.com
DTSTART;VALUE=DATE:20250912
DTEND;VALUE=DATE:20250915
DTSTAMP:20250130T155739Z
URL:https://www.campinglebrevedent.com/events/les-terres-de-jim/
SUMMARY:Les Terres de Jim
DESCRIPTION:Les Terres de Jim sont reconnues comme la plus grande fête agr
 icole en plein air d'Europe\, organisée annuellement par les Jeunes Agric
 ulteurs. L'édition 2025 se tiendra les 12\, 13 et 14 septembre 2025 à Vi
 eux-Manoir\, une commune située à proximité de Rouen en Seine-Maritime.
 \n\nCet événement vise à promouvoir l'agriculture française auprès du
  grand public en proposant une multitude d'animations pour tous les âges.
  Parmi les activités phares\, on retrouve le concours national de labour\
 , des démonstrations agricoles\, des expositions d'animaux\, des dégusta
 tions de produits du terroir\, des spectacles équestres\, ainsi que des c
 oncerts et des soirées thématiques.\n\nCette édition promet d'être un 
 rendez-vous incontournable pour découvrir les richesses de l'agriculture 
 française dans une ambiance festive et conviviale.\n\nPour plus d'informa
 tion\, cliquez ici!
ATTACH;FMTTYPE=image/jpeg:https://www.campinglebrevedent.com/wp-content/up
 loads/terres-de-jim-2025-festival-agricole.jpg
LOCATION:Vieux-Manoir\, Centre ville\, Vieux-Manoir\, France
GEO:49.567761;1.294551
X-APPLE-STRUCTURED-LOCATION;VALUE=URI;X-ADDRESS=Centre ville\, Vieux-Manoir
 \, France;X-APPLE-RADIUS=100;X-TITLE=Vieux-Manoir:geo:49.567761,1.294551
END:VEVENT
END:VCALENDAR