BEGIN:VCALENDAR
VERSION:2.0
PRODID:-//wp-events-plugin.com//7.2.3.1//EN
BEGIN:VEVENT
UID:662@campinglebrevedent.com
DTSTART;VALUE=DATE:20250124
DTEND;VALUE=DATE:20260101
DTSTAMP:20250128T113624Z
URL:https://www.campinglebrevedent.com/events/luminiscence/
SUMMARY:Luminiscence
DESCRIPTION:À partir du 24 janvier 2025\, la majestueuse cathédrale Notre
 -Dame de Rouen accueille Luminiscence\, un spectacle immersif à 360° all
 iant vidéo mapping\, musique en direct et narration. Cette expérience mu
 lti-sensorielle plonge les spectateurs dans l'histoire et les secrets de l
 'édifice\, mettant en valeur son architecture gothique à travers des pro
 jections lumineuses spectaculaires. Les représentations ont lieu du mercr
 edi au samedi\, avec deux à trois séances par soir\, chacune durant envi
 ron 60 minutes. Les billets sont disponibles en ligne\, avec des tarifs va
 riant selon le placement. Les enfants de moins de 4 ans bénéficient d'un
 e entrée gratuite s'ils sont assis sur les genoux d'un adulte.\n\nPour pl
 us d'information et pour réserver\, cliquez ici!
ATTACH;FMTTYPE=image/jpeg:https://www.campinglebrevedent.com/wp-content/up
 loads/spectacle-luminiscence-rouen-2025-mapping-cathedrale-notre-dame.jpg
LOCATION:Rouen\, Cathédrale Notre-Dame\, Rouen\, France
GEO:49.44014;1.095008
X-APPLE-STRUCTURED-LOCATION;VALUE=URI;X-ADDRESS=Cathédrale Notre-Dame\, Ro
 uen\, France;X-APPLE-RADIUS=100;X-TITLE=Rouen:geo:49.44014,1.095008
END:VEVENT
END:VCALENDAR