BEGIN:VCALENDAR
VERSION:2.0
PRODID:-//wp-events-plugin.com//7.2.3.1//EN
BEGIN:VEVENT
UID:479@campinglebrevedent.com
DTSTART;VALUE=DATE:20250627
DTEND;VALUE=DATE:20250630
DTSTAMP:20241204T151530Z
URL:https://www.campinglebrevedent.com/events/medievales-de-bayeux/
SUMMARY:Médiévales de Bayeux
DESCRIPTION:Les Médiévales de Bayeux célébreront leur 38ᵉ édition du
  27 au 29 juin 2025 dans la cité historique de Bayeux\, en Normandie. Dep
 uis plus de trois décennies\, cet événement transforme la ville en une 
 scène médiévale vivante\, attirant des milliers de visiteurs.\n\nProgra
 mme :\n\n 	Grande parade nocturne : Le vendredi soir\, une des plus import
 antes parades médiévales de France lancera les festivités\, avec des cr
 éatures fantastiques\, des cracheurs de feu\, des échassiers et des comp
 agnies artistiques.\n 	Spectacles de rue : Jongleurs\, troubadours\, acrob
 ates et musiciens animeront les rues\, offrant des performances immersives
  pour tous les âges.\n 	Marché médiéval : Artisans et commerçants pro
 poseront des produits d'époque\, des démonstrations de métiers anciens 
 et des spécialités culinaires médiévales.\n 	Reconstitutions historiqu
 es : Des camps médiévaux et des démonstrations de combats permettront a
 ux visiteurs de plonger dans l'histoire.\n 	Animations pour enfants : Atel
 iers d'artisanat\, jeux d'antan et spectacles dédiés aux plus jeunes.\n\
 nPour plus d'informations - cliquez ici!
ATTACH;FMTTYPE=image/jpeg:https://www.campinglebrevedent.com/wp-content/up
 loads/medievales-de-bayeux-2025-normandie.jpg
LOCATION:Bayeux\, Place De Gaulle\, Bayeux\, France
GEO:49.276425;-0.707642
X-APPLE-STRUCTURED-LOCATION;VALUE=URI;X-ADDRESS=Place De Gaulle\, Bayeux\, 
 France;X-APPLE-RADIUS=100;X-TITLE=Bayeux:geo:49.276425,-0.707642
END:VEVENT
END:VCALENDAR