BEGIN:VCALENDAR
VERSION:2.0
PRODID:-//wp-events-plugin.com//7.2.3.1//EN
BEGIN:VEVENT
UID:482@campinglebrevedent.com
DTSTART;VALUE=DATE:20250320
DTEND;VALUE=DATE:20251222
DTSTAMP:20241206T105440Z
URL:https://www.campinglebrevedent.com/events/millenaire-de-caen/
SUMMARY:Millénaire de Caen
DESCRIPTION:En 2025\, la ville de Caen célébrera son millénaire\, marqua
 nt 1000 ans d'histoire depuis sa première mention écrite en 1025. Pour c
 ette occasion exceptionnelle\, une série d'événements culturels et fest
 ifs est prévue tout au long de l'année\, mettant en lumière le riche pa
 trimoine de la ville et son dynamisme contemporain.\n\nProgramme:\n\n 	20-
 23 mars 2025 : Inauguration officielle du Millénaire au Château de Caen\
 , symbole emblématique de la ville.\n 	21-28 mars 2025 : Les Journées de
  l’Histoire offriront des événements populaires retraçant les grandes
  étapes de l'histoire de Caen\, du Moyen Âge à nos jours.\n 	9 mai 2025
  : La Parade Opératique\, un défilé spectaculaire de 5 kilomètres à t
 ravers la ville\, orchestré par la compagnie locale Le Ballon Vert\, mett
 ra en scène artistes\, circassiens et musiciens pour évoquer l'histoire 
 de Caen.\n 	27-29 juin 2025 : Le Week-end Maritime célébrera le lien de 
 Caen avec la mer\, avec 48 gréements représentant les 48 communes de la 
 communauté urbaine\, des défilés maritimes et diverses animations nauti
 ques.\n 	19-21 septembre 2025 : Le spectacle "Aquanauts" de la compagnie s
 uédoise Cirkus Cirkör illuminera le bassin Saint-Pierre avec des perform
 ances alliant cirque et nage synchronisée.\n 	Décembre 2025 : Un parcour
 s d’art numérique en ville clôturera les festivités\, mettant en lumi
 ère le patrimoine de Caen et sa récente labellisation en tant que "Ville
  créative en arts numériques" par l'UNESCO en octobre 2023.\n\nParallèl
 ement à ces événements\, un parcours d'œuvres en plein air sera instal
 lé durant l'été 2025\, présentant près de 50 créations d'artistes in
 ternationaux\, nationaux et locaux dans des lieux emblématiques de Caen e
 t de la communauté urbaine. Le Millénaire de Caen 2025 s'annonce comme u
 ne célébration majeure\, alliant tradition et modernité\, et offrant un
 e occasion unique de (re)découvrir la richesse culturelle et historique d
 e la ville.\n\nPour plus d'informations - cliquez ici!
ATTACH;FMTTYPE=image/jpeg:https://www.campinglebrevedent.com/wp-content/up
 loads/millenaire-caen-2025-normandie.jpg
LOCATION:Caen\, Centre ville\, Caen\, France
GEO:49.182066;-0.370832
X-APPLE-STRUCTURED-LOCATION;VALUE=URI;X-ADDRESS=Centre ville\, Caen\, Franc
 e;X-APPLE-RADIUS=100;X-TITLE=Caen:geo:49.182066,-0.370832
END:VEVENT
END:VCALENDAR