BEGIN:VCALENDAR
VERSION:2.0
PRODID:-//wp-events-plugin.com//7.2.3.1//EN
BEGIN:VEVENT
UID:634@campinglebrevedent.com
DTSTART;VALUE=DATE:20250529
DTEND;VALUE=DATE:20250602
DTSTAMP:20241216T141305Z
URL:https://www.campinglebrevedent.com/events/nouvelles-fetes-jeanne-darc/
SUMMARY:Médiévales de Rouen
DESCRIPTION:Les Médiévales de Rouen sont un événement annuel célébran
 t l'héroïne française Jeanne d’Arc\, brûlée vive sur la place du Vi
 eux-Marché en 1431. Ces festivités\, programmées du 29 au 31 mai 2025\,
  plongent la ville dans une ambiance médiévale\, mêlant histoire\, cult
 ure et animations populaires.\n\nProgramme:\n\n 	Marchés Médiévaux : Ar
 tisans et commerçants proposeront des produits inspirés du Moyen Âge\, 
 tels que des objets d'artisanat\, des costumes et des mets traditionnels.\
 n 	Campements Historiques : Des reconstitutions de campements médiévaux 
 permettront aux visiteurs de découvrir la vie quotidienne des chevaliers 
 et des paysans\, avec des démonstrations de métiers anciens et des prés
 entations d'armes.\n 	Défilés et Parades : Des défilés costumés anime
 ront les rues de Rouen\, mettant en scène des personnages historiques\, d
 es créatures fantastiques et des troupes de musique et de danse médiéva
 les.\n 	Spectacles et Animations : Des représentations théâtrales\, des
  concerts de musique médiévale\, des démonstrations de combats et des a
 teliers interactifs seront proposés pour divertir et instruire les partic
 ipants de tous âges.\n 	Cérémonies Officielles : Des hommages à Jeanne
  d’Arc\, tels que l'allumage de la flamme et le dépôt de gerbes\, auro
 nt lieu sur la place du Vieux-Marché\, en présence de personnalités loc
 ales.\n\nLes Médiévales de Rouen offrent une occasion unique de revivre 
 l'histoire médiévale de la ville et de célébrer l'héritage de Jeanne 
 d’Arc dans une atmosphère festive et éducative.\n\nPour plus d'informa
 tions - cliquez ici!
ATTACH;FMTTYPE=image/jpeg:https://www.campinglebrevedent.com/wp-content/up
 loads/medievales-de-rouen-seine-maritime-normandie.jpg
LOCATION:Rouen\, Centre ville\, Rouen\, France
GEO:49.443526;1.098431
X-APPLE-STRUCTURED-LOCATION;VALUE=URI;X-ADDRESS=Centre ville\, Rouen\, Fran
 ce;X-APPLE-RADIUS=100;X-TITLE=Rouen:geo:49.443526,1.098431
END:VEVENT
END:VCALENDAR