BEGIN:VCALENDAR
VERSION:2.0
PRODID:-//wp-events-plugin.com//7.2.3.1//EN
BEGIN:VEVENT
UID:507@campinglebrevedent.com
DTSTART;VALUE=DATE:20250517
DTEND;VALUE=DATE:20250518
DTSTAMP:20241206T111355Z
URL:https://www.campinglebrevedent.com/events/nuit-europeenne-des-musees/
SUMMARY:Nuit européenne des musées
DESCRIPTION:La Nuit européenne des musées est un événement annuel\, qui
  se déroulera le 17 mai 2025\, qui offre au public l'opportunité de déc
 ouvrir gratuitement les musées et leurs collections lors de nocturnes sp
 éciales. En Normandie\, cette manifestation est l'occasion pour de nombre
 ux établissements culturels de proposer des animations variées telles qu
 e des visites commentées\, des ateliers\, des projections et des spectacl
 es vivants. En Normandie\, des institutions telles que le Musée de Norman
 die à Caen participent régulièrement à cet événement en proposant de
 s visites et des animations gratuites. De même\, la Réunion des Musées 
 Métropolitains Rouen Normandie organise des activités spéciales à cett
 e occasion.\n\nPour plus d'informations - cliquez ici!
ATTACH;FMTTYPE=image/jpeg:https://www.campinglebrevedent.com/wp-content/up
 loads/nuit-europeenne-des-musees-2025-normandie.jpg
END:VEVENT
END:VCALENDAR