BEGIN:VCALENDAR
VERSION:2.0
PRODID:-//wp-events-plugin.com//7.2.3.1//EN
BEGIN:VEVENT
UID:1177@campinglebrevedent.com
DTSTART;VALUE=DATE:20260627
DTEND;VALUE=DATE:20260628
DTSTAMP:20260114T092011Z
URL:https://www.campinglebrevedent.com/events/nuit-romantique/
SUMMARY:Nuit Romantique
DESCRIPTION:La Nuit Romantique de Beuvron-en-Auge se déroulera le samedi 2
 7 juin 2026\, à Beuvron-en-Auge (Calvados\, Normandie). Organisée dans l
 ’un des Plus Beaux Villages de France\, cette soirée invite habitants e
 t visiteurs à vivre un moment suspendu placé sous le signe du romantisme
 \, de la poésie et de la douceur estivale. À la tombée de la nuit\, le 
 village se transforme en décor enchanteur avec illuminations tamisées\, 
 bougies\, lanternes\, mises en lumière du patrimoine\, déambulations mus
 icales et animations artistiques\, créant une atmosphère intime et chale
 ureuse. Pensée comme une célébration de l’amour\, de la rencontre et 
 du partage\, la Nuit Romantique offre une expérience unique mêlant flân
 erie\, musique\, patrimoine et émotions\, et s’impose comme un temps fo
 rt estival dans le Pays d’Auge\, idéal pour une sortie en couple ou une
  balade nocturne pleine de charme.\n\nPour plus d'informations - cliquez i
 ci!
ATTACH;FMTTYPE=image/jpeg:https://www.campinglebrevedent.com/wp-content/up
 loads/nuit-romantique-beuvron-en-auge-camille-plichard.jpg
LOCATION:Beuvron-en-Auge\, Centre ville\, Beuvron-en-Auge\, France
GEO:49.187461;-0.047156
X-APPLE-STRUCTURED-LOCATION;VALUE=URI;X-ADDRESS=Centre ville\, Beuvron-en-A
 uge\, France;X-APPLE-RADIUS=100;X-TITLE=Beuvron-en-Auge:geo:49.187461,-0.0
 47156
END:VEVENT
END:VCALENDAR