BEGIN:VCALENDAR
VERSION:2.0
PRODID:-//wp-events-plugin.com//7.2.3.1//EN
BEGIN:VEVENT
UID:1153@campinglebrevedent.com
DTSTART;VALUE=DATE:20260501
DTEND;VALUE=DATE:20260504
DTSTAMP:20260113T100510Z
URL:https://www.campinglebrevedent.com/events/salon-antiquites-brocante-de
 -pont-leveque-2/
SUMMARY:Salon Antiquités-Brocante de Pont-l’Évêque
DESCRIPTION:Le Salon Antiquités-Brocante de Pont-l’Évêque se dérouler
 a du vendredi 1er au dimanche 3 mai 2026\, à Pont-l’Évêque (Calvados\
 , Normandie). Ce rendez-vous incontournable des amateurs de brocante\, ant
 iquités et objets de collection réunit de nombreux exposants professionn
 els proposant meubles anciens\, objets décoratifs\, livres\, vaisselle\, 
 tableaux\, bibelots et pièces rares. Pendant trois jours\, le public est 
 invité à chiner dans une ambiance conviviale et authentique\, à la rech
 erche de trouvailles uniques et de trésors du passé. Accessible à tous\
 , le Salon Antiquités-Brocante de Pont-l’Évêque s’impose comme un t
 emps fort printanier pour les passionnés de patrimoine\, de décoration e
 t de belles pièces anciennes dans le Pays d’Auge.\n\nPour plus d'inform
 ations - cliquez ici!
ATTACH;FMTTYPE=image/jpeg:https://www.campinglebrevedent.com/wp-content/up
 loads/salon-antiquaires-pont-leveque-objets-art-camille-ruffray.png
LOCATION:Pont-l'Evêque\, Place du Bras d'Or\, Pont-l'Evêque\, France
GEO:49.286292;0.188357
X-APPLE-STRUCTURED-LOCATION;VALUE=URI;X-ADDRESS=Place du Bras d'Or\, Pont-l
 'Evêque\, France;X-APPLE-RADIUS=100;X-TITLE=Pont-l'Evêque:geo:49.286292,
 0.188357
END:VEVENT
END:VCALENDAR