BEGIN:VCALENDAR
VERSION:2.0
PRODID:-//wp-events-plugin.com//7.2.3.1//EN
BEGIN:VEVENT
UID:466@campinglebrevedent.com
DTSTART:20240704T170000Z
DTEND:20240829T183000Z
DTSTAMP:20240621T090922Z
URL:https://www.campinglebrevedent.com/events/visite-de-la-ferme-des-bruye
 res-carre/
SUMMARY:Visite de la ferme des Bruyères Carré
DESCRIPTION:Après un accueil chaleureux par Benoit Charbonneau\, propriét
 aire des lieux\, vous pourrez visionner un petit film sur les secrets de l
 a fabrication du cidre.\n\nEnsuite\, vous découvrirez les caves\, le pres
 soir et les vergers avec les différentes variétés de pommes.\n\nEnfin\,
  vous terminerez votre visite par une dégustation de différents produits
  de la ferme et vous repartirez avec de nombreuses recettes normandes!\n\n
 Tous les jeudis en juillet et août à 17h.
ATTACH;FMTTYPE=image/jpeg:https://www.campinglebrevedent.com/wp-content/up
 loads/visite-ferme-cidricole-bruyeres-carre-moyaux-normandie-calvados.jpg
LOCATION:Les Bruyères Carré\, Ferme des Bruyères\, Moyaux\, 14590\, Fran
 ce
GEO:49.188188;0.362258
X-APPLE-STRUCTURED-LOCATION;VALUE=URI;X-ADDRESS=Ferme des Bruyères\, Moyau
 x\, 14590\, France;X-APPLE-RADIUS=100;X-TITLE=Les Bruyères Carré:geo:49.
 188188,0.362258
END:VEVENT
END:VCALENDAR